BEGIN:VCALENDAR
VERSION:2.0
PRODID:-//Wasauksing Nursing Station - ECPv6.15.11//NONSGML v1.0//EN
CALSCALE:GREGORIAN
METHOD:PUBLISH
X-ORIGINAL-URL:https://wasauksing.health
X-WR-CALDESC:Events for Wasauksing Nursing Station
REFRESH-INTERVAL;VALUE=DURATION:PT1H
X-Robots-Tag:noindex
X-PUBLISHED-TTL:PT1H
BEGIN:VTIMEZONE
TZID:UTC
BEGIN:STANDARD
TZOFFSETFROM:+0000
TZOFFSETTO:+0000
TZNAME:UTC
DTSTART:20230101T000000
END:STANDARD
END:VTIMEZONE
BEGIN:VEVENT
DTSTART;TZID=UTC:20240708T083000
DTEND;TZID=UTC:20240708T163000
DTSTAMP:20260419T125302
CREATED:20240523T181249Z
LAST-MODIFIED:20240523T181249Z
UID:2873-1720427400-1720456200@wasauksing.health
SUMMARY:Aislinn - July 8\, 2024
DESCRIPTION:
URL:https://wasauksing.health/event/aislinn-july-8-2024/
CATEGORIES:Counselling Visit Dates
END:VEVENT
BEGIN:VEVENT
DTSTART;TZID=UTC:20240708T083000
DTEND;TZID=UTC:20240708T163000
DTSTAMP:20260419T125302
CREATED:20240627T174533Z
LAST-MODIFIED:20240627T174533Z
UID:3059-1720427400-1720456200@wasauksing.health
SUMMARY:Alex- July 8\, 2024
DESCRIPTION:
URL:https://wasauksing.health/event/alex-july-8-2024/
CATEGORIES:Counselling Visit Dates
END:VEVENT
BEGIN:VEVENT
DTSTART;TZID=UTC:20240716T083000
DTEND;TZID=UTC:20240716T163000
DTSTAMP:20260419T125302
CREATED:20240523T181023Z
LAST-MODIFIED:20240627T175219Z
UID:2865-1721118600-1721147400@wasauksing.health
SUMMARY:Evi - July 16\, 2024
DESCRIPTION:
URL:https://wasauksing.health/event/evi-july-23-2024/
CATEGORIES:Counselling Visit Dates
END:VEVENT
BEGIN:VEVENT
DTSTART;TZID=UTC:20240724T083000
DTEND;TZID=UTC:20240724T163000
DTSTAMP:20260419T125302
CREATED:20240523T181305Z
LAST-MODIFIED:20240523T181305Z
UID:2875-1721809800-1721838600@wasauksing.health
SUMMARY:Aislinn - July 24\, 2024
DESCRIPTION:
URL:https://wasauksing.health/event/aislinn-july-24-2024/
CATEGORIES:Counselling Visit Dates
END:VEVENT
BEGIN:VEVENT
DTSTART;TZID=UTC:20240726T083000
DTEND;TZID=UTC:20240726T163000
DTSTAMP:20260419T125302
CREATED:20240627T174557Z
LAST-MODIFIED:20240627T174557Z
UID:3061-1721982600-1722011400@wasauksing.health
SUMMARY:Alex- July 26\, 2024
DESCRIPTION:
URL:https://wasauksing.health/event/alex-july-26-2024/
CATEGORIES:Counselling Visit Dates
END:VEVENT
BEGIN:VEVENT
DTSTART;TZID=UTC:20240730T083000
DTEND;TZID=UTC:20240730T163000
DTSTAMP:20260419T125302
CREATED:20240627T175307Z
LAST-MODIFIED:20240627T175307Z
UID:3082-1722328200-1722357000@wasauksing.health
SUMMARY:Evi - July 30\, 2024
DESCRIPTION:
URL:https://wasauksing.health/event/evi-july-30-2024/
CATEGORIES:Counselling Visit Dates
END:VEVENT
END:VCALENDAR