BEGIN:VCALENDAR
VERSION:2.0
PRODID:-//Wasauksing Nursing Station - ECPv6.15.11//NONSGML v1.0//EN
CALSCALE:GREGORIAN
METHOD:PUBLISH
X-ORIGINAL-URL:https://wasauksing.health
X-WR-CALDESC:Events for Wasauksing Nursing Station
REFRESH-INTERVAL;VALUE=DURATION:PT1H
X-Robots-Tag:noindex
X-PUBLISHED-TTL:PT1H
BEGIN:VTIMEZONE
TZID:UTC
BEGIN:STANDARD
TZOFFSETFROM:+0000
TZOFFSETTO:+0000
TZNAME:UTC
DTSTART:20230101T000000
END:STANDARD
END:VTIMEZONE
BEGIN:VEVENT
DTSTART;TZID=UTC:20240604T083000
DTEND;TZID=UTC:20240604T163000
DTSTAMP:20260419T143827
CREATED:20240523T180932Z
LAST-MODIFIED:20240523T180932Z
UID:2861-1717489800-1717518600@wasauksing.health
SUMMARY:Evi - June 4\, 2024
DESCRIPTION:
URL:https://wasauksing.health/event/evi-june-4-2024/
CATEGORIES:Counselling Visit Dates
END:VEVENT
BEGIN:VEVENT
DTSTART;TZID=UTC:20240605T083000
DTEND;TZID=UTC:20240605T163000
DTSTAMP:20260419T143827
CREATED:20240523T181206Z
LAST-MODIFIED:20240523T181206Z
UID:2869-1717576200-1717605000@wasauksing.health
SUMMARY:Aislinn - June 5\, 2024
DESCRIPTION:
URL:https://wasauksing.health/event/aislinn-june-5-2024/
CATEGORIES:Counselling Visit Dates
END:VEVENT
BEGIN:VEVENT
DTSTART;TZID=UTC:20240624T083000
DTEND;TZID=UTC:20240624T163000
DTSTAMP:20260419T143827
CREATED:20240523T181227Z
LAST-MODIFIED:20240523T181227Z
UID:2871-1719217800-1719246600@wasauksing.health
SUMMARY:Aislinn - June 24\, 2024
DESCRIPTION:
URL:https://wasauksing.health/event/aislinn-june-24-2024/
CATEGORIES:Counselling Visit Dates
END:VEVENT
BEGIN:VEVENT
DTSTART;TZID=UTC:20240625T083000
DTEND;TZID=UTC:20240625T163000
DTSTAMP:20260419T143827
CREATED:20240523T180950Z
LAST-MODIFIED:20240523T181132Z
UID:2863-1719304200-1719333000@wasauksing.health
SUMMARY:Evi - June 25\, 2024
DESCRIPTION:
URL:https://wasauksing.health/event/evi-june-25-2024/
CATEGORIES:Counselling Visit Dates
END:VEVENT
BEGIN:VEVENT
DTSTART;TZID=UTC:20240627T083000
DTEND;TZID=UTC:20240627T163000
DTSTAMP:20260419T143827
CREATED:20240627T174452Z
LAST-MODIFIED:20240627T174452Z
UID:3057-1719477000-1719505800@wasauksing.health
SUMMARY:Alex- June 27\, 2024
DESCRIPTION:
URL:https://wasauksing.health/event/alex-june-27-2024/
CATEGORIES:Counselling Visit Dates
END:VEVENT
END:VCALENDAR