BEGIN:VCALENDAR
VERSION:2.0
PRODID:-//Wasauksing Nursing Station - ECPv6.15.11//NONSGML v1.0//EN
CALSCALE:GREGORIAN
METHOD:PUBLISH
X-ORIGINAL-URL:https://wasauksing.health
X-WR-CALDESC:Events for Wasauksing Nursing Station
REFRESH-INTERVAL;VALUE=DURATION:PT1H
X-Robots-Tag:noindex
X-PUBLISHED-TTL:PT1H
BEGIN:VTIMEZONE
TZID:UTC
BEGIN:STANDARD
TZOFFSETFROM:+0000
TZOFFSETTO:+0000
TZNAME:UTC
DTSTART:20230101T000000
END:STANDARD
END:VTIMEZONE
BEGIN:VEVENT
DTSTART;TZID=UTC:20240212T083000
DTEND;TZID=UTC:20240212T163000
DTSTAMP:20260419T214947
CREATED:20240126T195150Z
LAST-MODIFIED:20240208T182157Z
UID:2598-1707726600-1707755400@wasauksing.health
SUMMARY:Whole Life Counselling
DESCRIPTION:
URL:https://wasauksing.health/event/whole-life-counselling-2/
CATEGORIES:Counselling Visit Dates
ATTACH;FMTTYPE=image/jpeg:https://wasauksing.health/wp-content/uploads/2024/01/Whole-Life-Counselling-Dates-Made-with-PosterMyWall-3.jpg
END:VEVENT
BEGIN:VEVENT
DTSTART;TZID=UTC:20240226T083000
DTEND;TZID=UTC:20240226T163000
DTSTAMP:20260419T214947
CREATED:20240126T195222Z
LAST-MODIFIED:20240208T182139Z
UID:2600-1708936200-1708965000@wasauksing.health
SUMMARY:Whole Life Counselling
DESCRIPTION:
URL:https://wasauksing.health/event/whole-life-counselling-3/
CATEGORIES:Counselling Visit Dates
ATTACH;FMTTYPE=image/jpeg:https://wasauksing.health/wp-content/uploads/2024/01/Whole-Life-Counselling-Dates-Made-with-PosterMyWall-3.jpg
END:VEVENT
END:VCALENDAR